Workbook
Name _: "_x0015_‹_x0013_t_x0015__x0001_wUôB@NEQìJ„O FÀT;"
Name __: [0]!STOP2:[0]!STOP2E
Name __: {#N/A,#N/A,FALSE,"cover";#N/A,#N/A,FALSE,"page_1";#N/A,#N/A,FALSE,"page_2";#N/A,#N/A,FALSE,"page_3";#N/A,#N/A,FALSE,"page_4"}
Name _________________________________________amd1: {#N/A,#N/A,FALSE,"Chi tiÆt"}
Name ________________________________________amd1: {#N/A,#N/A,FALSE,"Chi tiÆt"}
Name _______________________________________amd1: {#N/A,#N/A,FALSE,"Chi tiÆt"}
Name ______________________________________amd1: {#N/A,#N/A,FALSE,"Chi tiÆt"}
Name ____________________________________amd1: {#N/A,#N/A,FALSE,"Chi tiÆt"}
Name ___________________________________amd1: {#N/A,#N/A,FALSE,"Chi tiÆt"}
Name __________________________________amd1: {#N/A,#N/A,FALSE,"Chi tiÆt"}
Name _________________________________amd1: {#N/A,#N/A,FALSE,"Chi tiÆt"}
Name ________________________________amd1: {#N/A,#N/A,FALSE,"Chi tiÆt"}
Name ________________________________REV3: {#N/A,#N/A,FALSE,"REK-S-TPL";#N/A,#N/A,FALSE,"REK-TPML";#N/A,#N/A,FALSE,"RAB-TEMPEL"}
Name _______________________________amd1: {#N/A,#N/A,FALSE,"Chi tiÆt"}
Name _______________________________REV3: {#N/A,#N/A,FALSE,"REK-S-TPL";#N/A,#N/A,FALSE,"REK-TPML";#N/A,#N/A,FALSE,"RAB-TEMPEL"}
Name ______________________________amd1: {#N/A,#N/A,FALSE,"Chi tiÆt"}
Name ______________________________REV3: {#N/A,#N/A,FALSE,"REK-S-TPL";#N/A,#N/A,FALSE,"REK-TPML";#N/A,#N/A,FALSE,"RAB-TEMPEL"}
Name _____________________________amd1: {#N/A,#N/A,FALSE,"Chi tiÆt"}
Name ____________________________amd1: {#N/A,#N/A,FALSE,"Chi tiÆt"}
Name ____________________________REV3: {#N/A,#N/A,FALSE,"REK-S-TPL";#N/A,#N/A,FALSE,"REK-TPML";#N/A,#N/A,FALSE,"RAB-TEMPEL"}
Name ___________________________amd1: {#N/A,#N/A,FALSE,"Chi tiÆt"}
Name __________________________amd1: {#N/A,#N/A,FALSE,"Chi tiÆt"}
Name __________________________REV3: {#N/A,#N/A,FALSE,"REK-S-TPL";#N/A,#N/A,FALSE,"REK-TPML";#N/A,#N/A,FALSE,"RAB-TEMPEL"}
Name _________________________amd1: {#N/A,#N/A,FALSE,"Chi tiÆt"}
Name _________________________REV3: {#N/A,#N/A,FALSE,"REK-S-TPL";#N/A,#N/A,FALSE,"REK-TPML";#N/A,#N/A,FALSE,"RAB-TEMPEL"}
Name ________________________amd1: {#N/A,#N/A,FALSE,"Chi tiÆt"}
Name ________________________REV3: {#N/A,#N/A,FALSE,"REK-S-TPL";#N/A,#N/A,FALSE,"REK-TPML";#N/A,#N/A,FALSE,"RAB-TEMPEL"}
Name _______________________amd1: {#N/A,#N/A,FALSE,"Chi tiÆt"}
Name _______________________REV3: {#N/A,#N/A,FALSE,"REK-S-TPL";#N/A,#N/A,FALSE,"REK-TPML";#N/A,#N/A,FALSE,"RAB-TEMPEL"}
Name ______________________amd1: {#N/A,#N/A,FALSE,"Chi tiÆt"}
Name ______________________REV3: {#N/A,#N/A,FALSE,"REK-S-TPL";#N/A,#N/A,FALSE,"REK-TPML";#N/A,#N/A,FALSE,"RAB-TEMPEL"}
Name _____________________amd1: {#N/A,#N/A,FALSE,"Chi tiÆt"}
Name _____________________REV3: {#N/A,#N/A,FALSE,"REK-S-TPL";#N/A,#N/A,FALSE,"REK-TPML";#N/A,#N/A,FALSE,"RAB-TEMPEL"}
Name ____________________amd1: {#N/A,#N/A,FALSE,"Chi tiÆt"}
Name ____________________REV3: {#N/A,#N/A,FALSE,"REK-S-TPL";#N/A,#N/A,FALSE,"REK-TPML";#N/A,#N/A,FALSE,"RAB-TEMPEL"}
Name ___________________amd1: {#N/A,#N/A,FALSE,"Chi tiÆt"}
Name ___________________REV3: {#N/A,#N/A,FALSE,"REK-S-TPL";#N/A,#N/A,FALSE,"REK-TPML";#N/A,#N/A,FALSE,"RAB-TEMPEL"}
Name __________________amd1: {#N/A,#N/A,FALSE,"Chi tiÆt"}
Name __________________REV3: {#N/A,#N/A,FALSE,"REK-S-TPL";#N/A,#N/A,FALSE,"REK-TPML";#N/A,#N/A,FALSE,"RAB-TEMPEL"}
Name _________________amd1: {#N/A,#N/A,FALSE,"Chi tiÆt"}
Name _________________CU600: {#N/A,#N/A,TRUE,"toc";#N/A,#N/A,TRUE,"general";#N/A,#N/A,TRUE,"compressive";#N/A,#N/A,TRUE,"lateral";#N/A,#N/A,TRUE,"shallow"}
Name _________________REV3: {#N/A,#N/A,FALSE,"REK-S-TPL";#N/A,#N/A,FALSE,"REK-TPML";#N/A,#N/A,FALSE,"RAB-TEMPEL"}
Name ________________amd1: {#N/A,#N/A,FALSE,"Chi tiÆt"}
Name ________________CU600: {#N/A,#N/A,TRUE,"toc";#N/A,#N/A,TRUE,"general";#N/A,#N/A,TRUE,"compressive";#N/A,#N/A,TRUE,"lateral";#N/A,#N/A,TRUE,"shallow"}
Name ________________REV3: {#N/A,#N/A,FALSE,"REK-S-TPL";#N/A,#N/A,FALSE,"REK-TPML";#N/A,#N/A,FALSE,"RAB-TEMPEL"}
Name _______________amd1: {#N/A,#N/A,FALSE,"Chi tiÆt"}
Name _______________CU600: {#N/A,#N/A,TRUE,"toc";#N/A,#N/A,TRUE,"general";#N/A,#N/A,TRUE,"compressive";#N/A,#N/A,TRUE,"lateral";#N/A,#N/A,TRUE,"shallow"}
Name _______________Q2: {"'Overflow Tank '!$A$1:$Q$58"}
Name _______________REV3: {#N/A,#N/A,FALSE,"REK-S-TPL";#N/A,#N/A,FALSE,"REK-TPML";#N/A,#N/A,FALSE,"RAB-TEMPEL"}
Name ______________amd1: {#N/A,#N/A,FALSE,"Chi tiÆt"}
Name ______________CU600: {#N/A,#N/A,TRUE,"toc";#N/A,#N/A,TRUE,"general";#N/A,#N/A,TRUE,"compressive";#N/A,#N/A,TRUE,"lateral";#N/A,#N/A,TRUE,"shallow"}
Name ______________Q2: {"'Overflow Tank '!$A$1:$Q$58"}
Name ______________REV3: {#N/A,#N/A,FALSE,"REK-S-TPL";#N/A,#N/A,FALSE,"REK-TPML";#N/A,#N/A,FALSE,"RAB-TEMPEL"}
Name _____________amd1: {#N/A,#N/A,FALSE,"Chi tiÆt"}
Name _____________CU600: {#N/A,#N/A,TRUE,"toc";#N/A,#N/A,TRUE,"general";#N/A,#N/A,TRUE,"compressive";#N/A,#N/A,TRUE,"lateral";#N/A,#N/A,TRUE,"shallow"}
Name _____________REV3: {#N/A,#N/A,FALSE,"REK-S-TPL";#N/A,#N/A,FALSE,"REK-TPML";#N/A,#N/A,FALSE,"RAB-TEMPEL"}
Name ____________amd1: {#N/A,#N/A,FALSE,"Chi tiÆt"}
Name ____________REV3: {#N/A,#N/A,FALSE,"REK-S-TPL";#N/A,#N/A,FALSE,"REK-TPML";#N/A,#N/A,FALSE,"RAB-TEMPEL"}
Name ____________SLA2009: {#N/A,#N/A,FALSE,"M.32"}
Name ____________TH1: {#N/A,#N/A,FALSE,"M.34"}

Sheet REKAP
B2: REKAPITULASI
B3: BILL OF QUANTITY (BQ)
B5: PEKERJAAN : Pembangunan Laboratorium Smart Systems And Integrated Technologies (L-SSIT)
B7: LOKASI : KAMPUS UNIV. UDAYANA BUKIT - JIMBARAN
B8: NO. | C8: URAIAN PEKERJAAN | E8: JUMLAH HARGA (Rp.)
B11: =RAB!C12 -> I | C11: =RAB!D12 -> PEKERJAAN PERSIAPAN | E11: =RAB!J25 -> 551743970
B13: =RAB!C26 -> II. | C13: =RAB!D26 -> PEKERJAAN GALIAN DAN TANAH | E13: =RAB!J33 -> 7.2196356e+08
B15: =RAB!C34 -> III. | C15: =RAB!D34 -> PEKERJAAN STRUKTUR | E15: =RAB!J339 -> 17268619947
B17: =RAB!C340 -> IV. | C17: =RAB!D340 -> PEKERJAAN ARSITEKTUR | E17: =RAB!J584 -> 13664093249
B19: =RAB!C586 -> V. | C19: =RAB!D586 -> PEKERJAAN MEP | E19: =RAB!J1233 -> 18153480065
D21: JUMLAH HARGA | E21: =SUM(E11:E20) -> 50359900792
D22: PPN 11% | E22: =11%*E21 -> 5539589087
D23: JUMLAH HARGA | E23: =SUM(E21:E22) -> 55899489879
D24: DIBULATKAN | E24: =ROUNDDOWN(E23,-3) -> 55899489000
B25: Terbilang :
B26: =[1]Terbilang!D3 -> #ERROR!

Sheet RAB
C1: RAB
C2: Provinsi | E2: : Bali
C3: Kota | E3: : Badung
C4: Kegiatan | E4: : Belanja Modal Gedung dan Bangunan
C5: Pekerjaan | E5: : Perencanaan Pembangunan Laboratorium Smart Systems And Integrated Technologies (L-SSIT)
C6: Tahun Anggaran | E6: : 2026
C8: No | D8: Uraian Pekerjaan | F8: Volume | G8: Satuan | H8: Harga Satuan | I8: Harga Pekerjaan | J8: Total Harga | K8: Keterangan
C10: 1 | D10: 2 | F10: 3 | G10: 4 | H10: 5 | I10: 6 | J10: 7 | K10: 8
C12: I | D12: PEKERJAAN PERSIAPAN
C13: 1 | D13: Pengukuran dan Pemasangan Bowplank | F13: 235 | G13: m | H13: 28182 | I13: =H13*F13 -> 6622770
C14: 2 | D14: Pekerjaan Papan Nama Proyek | F14: 1 | G14: Unit | H14: 2900000 | I14: =H14*F14 -> 2900000
C15: 3 | D15: Pek. Pagar Keliling | F15: 235 | G15: m | H15: 237920 | I15: =H15*F15 -> 55911200
C16: 4 | D16: Mobilisasi dan Demobilisasi | F16: 1 | G16: Ls | H16: 140800000 | I16: =H16*F16 -> 140800000
C17: 5 | D17: SMKK
C18: 5.1 | D18: Helm proyek | F18: 50 | G18: Bh | H18: 80000 | I18: =H18*F18 -> 4000000
C19: 5.2 | D19: Sepatu Keselamatan | F19: 50 | G19: Psg | H19: 250000 | I19: =H19*F19 -> 12500000
C20: 5.3 | D20: Rompi | F20: 50 | G20: Bh | H20: 37700 | I20: =H20*F20 -> 1885000
C21: 5.4 | D21: P3K | F21: 2 | G21: Bh | H21: 500000 | I21: =H21*F21 -> 1000000
C22: 5.5 | D22: Sarung tangan | F22: 50 | G22: Psg | H22: 7500 | I22: =H22*F22 -> 375000
C23: 5.6 | D23: Rambu-Rambu peringatan | F23: 10 | G23: Bh | H23: 75000 | I23: =H23*F23 -> 750000
C24: 6 | D24: Peralatan Tower Crane | F24: 5 | G24: Bln | H24: 65000000 | I24: =H24*F24 -> 325000000
I25: TOTAL SUB PEKERJAAN I | J25: =SUM(I13:I24) -> 551743970
C26: II. | D26: PEKERJAAN GALIAN DAN TANAH
C27: 1 | D27: Pek. Cut & Fill | F27: 3814 | G27: m3 | H27: 17875 | I27: =H27*F27 -> 68175250
C28: 2 | D28: Pek. Galian Pondasi Setempat | F28: 806.74 | G28: m3 | H28: 130183 | I28: =H28*F28 -> 1.0502383e+08
C29: 3 | D29: Pek. Galian Pondasi Setempat Lift | F29: 52.53 | G29: m3 | H29: 130183 | I29: =H29*F29 -> 6838513
C30: 4 | D30: Pek. Galian BSTP | F30: 108 | G30: m3 | H30: 130183 | I30: =H30*F30 -> 14059764
C31: 5 | D31: Pek. Urugan Tanah Kembali | F31: 956.25 | G31: m3 | H31: 37800 | I31: =H31*F31 -> 36146250
C32: 6 | D32: Pek. Urugan Tanah Peninggian Lantai | F32: 1907 | G32: m3 | H32: 257850 | I32: =H32*F32 -> 491719950
I33: TOTAL SUB PEKERJAAN II | J33: =SUM(I27:I32) -> 7.2196356e+08
C34: III. | D34: PEKERJAAN STRUKTUR
C35: III.A. | D35: BASEMENT
C36: 1 | D36: Pek. Pondasi P1
D37: Beton f'c 31.2 Mpa | F37: 53.16 | G37: m3 | H37: 1500536 | I37: =H37*F37 -> 79768494
D38: Besi | F38: 6834.38 | G38: kg | H38: 13486 | I38: =H38*F38 -> 92168449
D39: Bekisting Batako | F39: 94.5 | G39: m2 | H39: 105201 | I39: =H39*F39 -> 9941494.5
C41: 2 | D41: Pek. Pondasi P2
D42: Beton f'c 31.2 Mpa | F42: 8.49 | G42: m3 | H42: 1500536 | I42: =H42*F42 -> 12739551
D43: Besi | F43: 1091.47 | G43: kg | H43: 13486 | I43: =H43*F43 -> 14719564
D44: Bekisting Batako | F44: 9.8 | G44: m2 | H44: 105201 | I44: =H44*F44 -> 1030969.8
C46: 3 | D46: Pek. Kolom K1 60x60 cm
D47: Beton f'c 31.2 Mpa | F47: 14.4 | G47: m3 | H47: 1500536 | I47: =H47*F47 -> 21607718
D48: Besi | F48: 3600 | G48: kg | H48: 13486 | I48: =H48*F48 -> 48549600
D49: Bekisting 2x Pakai | F49: 96 | G49: m2 | H49: 108022.75 | I49: =H49*F49 -> 10370184
C51: 3.a | D51: Pek. Kolom K1A 60x60 cm
D52: Beton f'c 31.2 Mpa | F52: 14.4 | G52: m3 | H52: 1500536 | I52: =H52*F52 -> 21607718
D53: Besi | F53: 5000 | G53: kg | H53: 13486 | I53: =H53*F53 -> 67430000
D54: Bekisting 2x Pakai | F54: 96 | G54: m2 | H54: 108022.75 | I54: =H54*F54 -> 10370184
C56: 4 | D56: Pek. Kolom K2 L30x80 cm
D57: Beton f'c 31.2 Mpa | F57: 5.85 | G57: m3 | H57: 1500536 | I57: =H57*F57 -> 8778135.6
D58: Besi | F58: 1350 | G58: kg | H58: 13486 | I58: =H58*F58 -> 18206100
D59: Bekisting 2x Pakai | F59: 48 | G59: m2 | H59: 108022.75 | I59: =H59*F59 -> 5185092
C61: 5 | D61: Pek. Sloof 30x50 cm
D62: Beton f'c 31.2 Mpa | F62: 14.94 | G62: m3 | H62: 1500536 | I62: =H62*F62 -> 22418008
D63: Besi | F63: 6640 | G63: kg | H63: 13486 | I63: =H63*F63 -> 89547040
D64: Bekisting 2x Pakai | F64: 199.2 | G64: m2 | H64: 106493 | I64: =H64*F64 -> 21213406
C66: 6 | D66: Pek. Lantai Dasar t : 20 cm
D67: Beton f'c 31.2 Mpa | F67: 72 | G67: m3 | H67: 1500536 | I67: =H67*F67 -> 108038592
D68: Besi Wiremesh M10 Double layer | F68: 720 | G68: Kg | H68: 15704.51 | I68: =H68*F68 -> 11307247
C70: 7 | D70: Pek. Dinding Penahan Tanah
D71: Beton f'c 31.2 Mpa | F71: 53.7 | G71: m3 | H71: 1500536 | I71: =H71*F71 -> 80578783
D72: Besi | F72: 4564.5 | G72: kg | H72: 13486 | I72: =H72*F72 -> 61556847
D73: Bekisting 2x Pakai | F73: 1074 | G73: m2 | H73: 66028 | I73: =H73*F73 -> 70914072
J74: =SUM(I37:I73) -> 888047249
C75: III.B. | D75: LANTAI 1
C76: 1 | D76: Pek. Pondasi P1
D77: Beton f'c 31.2 Mpa | F77: 173.64 | G77: m3 | H77: 1500536 | I77: =H77*F77 -> 260553071
D78: Besi | F78: 22325.63 | G78: kg | H78: 13486 | I78: =H78*F78 -> 3.0108345e+08
D79: Bekisting Batako | F79: 308.7 | G79: m2 | H79: 105201 | I79: =H79*F79 -> 32475549
C81: 2 | D81: Pek. Pondasi P2
D82: Beton f'c 31.2 Mpa | F82: 8.49 | G82: m3 | H82: 1500536 | I82: =H82*F82 -> 12739551
D83: Besi | F83: 1091.47 | G83: kg | H83: 13486 | I83: =H83*F83 -> 14719564
D84: Bekisting Batako | F84: 9.8 | G84: m2 | H84: 105201 | I84: =H84*F84 -> 1030969.8
C86: 3 | D86: Pek. Kolom K1 60x60 cm
D87: Beton f'c 31.2 Mpa | F87: 57.02 | G87: m3 | H87: 1500536 | I87: =H87*F87 -> 85560563
D88: Besi | F88: 14256 | G88: kg | H88: 13486 | I88: =H88*F88 -> 192256416
D89: Bekisting 2x Pakai | F89: 380.16 | G89: m2 | H89: 108022.75 | I89: =H89*F89 -> 41065929
C91: 3.a | D91: Pek. Kolom K1A 60x60 cm
D92: Beton f'c 31.2 Mpa | F92: 28.51 | G92: m3 | H92: 1500536 | I92: =H92*F92 -> 42780281
D93: Besi | F93: 9900 | G93: kg | H93: 13486 | I93: =H93*F93 -> 133511400
D94: Bekisting 2x Pakai | F94: 190.08 | G94: m2 | H94: 108022.75 | I94: =H94*F94 -> 20532964
C96: 4 | D96: Pek. Kolom K2 L30x80 cm
D97: Beton f'c 31.2 Mpa | F97: 8.42 | G97: m3 | H97: 1500536 | I97: =H97*F97 -> 12634513
D98: Besi | F98: 1339.2 | G98: kg | H98: 13486 | I98: =H98*F98 -> 18060451
D99: Bekisting 2x Pakai | F99: 69.12 | G99: m2 | H99: 108022.75 | I99: =H99*F99 -> 7466532.5
C101: 5 | D101: Pek. Sloof 30x50 cm
D102: Beton f'c 31.2 Mpa | F102: 60.36 | G102: m3 | H102: 1500536 | I102: =H102*F102 -> 90572353
D103: Besi | F103: 20120 | G103: kg | H103: 13486 | I103: =H103*F103 -> 271338320
D104: Bekisting 2x Pakai | F104: 804.8 | G104: m2 | H104: 106493 | I104: =H104*F104 -> 85705566
C106: 6 | D106: Pek. Lantai Dasar t : 10 cm
D107: Beton f'c 31.2 Mpa | F107: 124.4 | G107: m3 | H107: 1500536 | I107: =H107*F107 -> 1.8666668e+08
D108: Besi Wiremesh M8 single layer | F108: 1244 | G108: Kg | H108: 19913.08 | I108: =H108*F108 -> 24771872
C110: 8 | D110: Pek. Balok Precast B1 40x60 L = 6.000 mm | F110: 20 | G110: Unit | H110: 6604398.6 | I110: =H110*F110 -> 1.3208797e+08
C112: 9 | D112: Pek. Balok Precast B1 40x60 L = 8.000 mm | F112: 4 | G112: Unit | H112: 8441523 | I112: =H112*F112 -> 33766092
C114: 10 | D114: Pek. Balok Precast B2 30x50 L= 6.000 mm | F114: 1 | G114: Unit | H114: 4352583.2 | I114: =H114*F114 -> 4352583.2
C116: 11 | D116: Pek. Balok Precast B2 30x50 L= 3.000 mm | F116: 1 | G116: Unit | H116: 2902017.5 | I116: =H116*F116 -> 2902017.5
C118: 12 | D118: Pek. Pelat Half Slab (HS) Mutu f'c 31.2 Mpa, Tebal 7 cm | F118: 345 | G118: m2 | H118: 1108868.7 | I118: =H118*F118 -> 3.8255971e+08
C120: 13 | D120: Pek. Pelat Lantai Beton Tebal 8 cm
D121: Beton f'c 31.2 Mpa | F121: 27.6 | G121: m3 | H121: 1500536 | I121: =H121*F121 -> 41414794
D122: Wiremesh M10 Single Layer | F122: 345 | G122: Kg | H122: 15704.51 | I122: =H122*F122 -> 5418056
...
