Workbook
Name _: "_x0015_‹_x0013_t_x0015__x0001_wUôB@NEQìJ„O FÀT;"
Name __: [0]!STOP2:[0]!STOP2E
Name __: {#N/A,#N/A,FALSE,"cover";#N/A,#N/A,FALSE,"page_1";#N/A,#N/A,FALSE,"page_2";#N/A,#N/A,FALSE,"page_3";#N/A,#N/A,FALSE,"page_4"}
Name _________________________________________amd1: {#N/A,#N/A,FALSE,"Chi tiÆt"}
Name ________________________________________amd1: {#N/A,#N/A,FALSE,"Chi tiÆt"}
Name _______________________________________amd1: {#N/A,#N/A,FALSE,"Chi tiÆt"}
Name ______________________________________amd1: {#N/A,#N/A,FALSE,"Chi tiÆt"}
Name ____________________________________amd1: {#N/A,#N/A,FALSE,"Chi tiÆt"}
Name ___________________________________amd1: {#N/A,#N/A,FALSE,"Chi tiÆt"}
Name __________________________________amd1: {#N/A,#N/A,FALSE,"Chi tiÆt"}
Name _________________________________amd1: {#N/A,#N/A,FALSE,"Chi tiÆt"}
Name ________________________________amd1: {#N/A,#N/A,FALSE,"Chi tiÆt"}
Name ________________________________REV3: {#N/A,#N/A,FALSE,"REK-S-TPL";#N/A,#N/A,FALSE,"REK-TPML";#N/A,#N/A,FALSE,"RAB-TEMPEL"}
Name _______________________________amd1: {#N/A,#N/A,FALSE,"Chi tiÆt"}
Name _______________________________REV3: {#N/A,#N/A,FALSE,"REK-S-TPL";#N/A,#N/A,FALSE,"REK-TPML";#N/A,#N/A,FALSE,"RAB-TEMPEL"}
Name ______________________________amd1: {#N/A,#N/A,FALSE,"Chi tiÆt"}
Name ______________________________REV3: {#N/A,#N/A,FALSE,"REK-S-TPL";#N/A,#N/A,FALSE,"REK-TPML";#N/A,#N/A,FALSE,"RAB-TEMPEL"}
Name _____________________________amd1: {#N/A,#N/A,FALSE,"Chi tiÆt"}
Name ____________________________amd1: {#N/A,#N/A,FALSE,"Chi tiÆt"}
Name ____________________________REV3: {#N/A,#N/A,FALSE,"REK-S-TPL";#N/A,#N/A,FALSE,"REK-TPML";#N/A,#N/A,FALSE,"RAB-TEMPEL"}
Name ___________________________amd1: {#N/A,#N/A,FALSE,"Chi tiÆt"}
Name __________________________amd1: {#N/A,#N/A,FALSE,"Chi tiÆt"}
Name __________________________REV3: {#N/A,#N/A,FALSE,"REK-S-TPL";#N/A,#N/A,FALSE,"REK-TPML";#N/A,#N/A,FALSE,"RAB-TEMPEL"}
Name _________________________amd1: {#N/A,#N/A,FALSE,"Chi tiÆt"}
Name _________________________REV3: {#N/A,#N/A,FALSE,"REK-S-TPL";#N/A,#N/A,FALSE,"REK-TPML";#N/A,#N/A,FALSE,"RAB-TEMPEL"}
Name ________________________amd1: {#N/A,#N/A,FALSE,"Chi tiÆt"}
Name ________________________REV3: {#N/A,#N/A,FALSE,"REK-S-TPL";#N/A,#N/A,FALSE,"REK-TPML";#N/A,#N/A,FALSE,"RAB-TEMPEL"}
Name _______________________amd1: {#N/A,#N/A,FALSE,"Chi tiÆt"}
Name _______________________REV3: {#N/A,#N/A,FALSE,"REK-S-TPL";#N/A,#N/A,FALSE,"REK-TPML";#N/A,#N/A,FALSE,"RAB-TEMPEL"}
Name ______________________amd1: {#N/A,#N/A,FALSE,"Chi tiÆt"}
Name ______________________REV3: {#N/A,#N/A,FALSE,"REK-S-TPL";#N/A,#N/A,FALSE,"REK-TPML";#N/A,#N/A,FALSE,"RAB-TEMPEL"}
Name _____________________amd1: {#N/A,#N/A,FALSE,"Chi tiÆt"}
Name _____________________REV3: {#N/A,#N/A,FALSE,"REK-S-TPL";#N/A,#N/A,FALSE,"REK-TPML";#N/A,#N/A,FALSE,"RAB-TEMPEL"}
Name ____________________amd1: {#N/A,#N/A,FALSE,"Chi tiÆt"}
Name ____________________REV3: {#N/A,#N/A,FALSE,"REK-S-TPL";#N/A,#N/A,FALSE,"REK-TPML";#N/A,#N/A,FALSE,"RAB-TEMPEL"}
Name ___________________amd1: {#N/A,#N/A,FALSE,"Chi tiÆt"}
Name ___________________REV3: {#N/A,#N/A,FALSE,"REK-S-TPL";#N/A,#N/A,FALSE,"REK-TPML";#N/A,#N/A,FALSE,"RAB-TEMPEL"}
Name __________________amd1: {#N/A,#N/A,FALSE,"Chi tiÆt"}
Name __________________REV3: {#N/A,#N/A,FALSE,"REK-S-TPL";#N/A,#N/A,FALSE,"REK-TPML";#N/A,#N/A,FALSE,"RAB-TEMPEL"}
Name _________________amd1: {#N/A,#N/A,FALSE,"Chi tiÆt"}
Name _________________CU600: {#N/A,#N/A,TRUE,"toc";#N/A,#N/A,TRUE,"general";#N/A,#N/A,TRUE,"compressive";#N/A,#N/A,TRUE,"lateral";#N/A,#N/A,TRUE,"shallow"}
Name _________________REV3: {#N/A,#N/A,FALSE,"REK-S-TPL";#N/A,#N/A,FALSE,"REK-TPML";#N/A,#N/A,FALSE,"RAB-TEMPEL"}
Name ________________amd1: {#N/A,#N/A,FALSE,"Chi tiÆt"}
Name ________________CU600: {#N/A,#N/A,TRUE,"toc";#N/A,#N/A,TRUE,"general";#N/A,#N/A,TRUE,"compressive";#N/A,#N/A,TRUE,"lateral";#N/A,#N/A,TRUE,"shallow"}
Name ________________REV3: {#N/A,#N/A,FALSE,"REK-S-TPL";#N/A,#N/A,FALSE,"REK-TPML";#N/A,#N/A,FALSE,"RAB-TEMPEL"}
Name _______________amd1: {#N/A,#N/A,FALSE,"Chi tiÆt"}
Name _______________CU600: {#N/A,#N/A,TRUE,"toc";#N/A,#N/A,TRUE,"general";#N/A,#N/A,TRUE,"compressive";#N/A,#N/A,TRUE,"lateral";#N/A,#N/A,TRUE,"shallow"}
Name _______________Q2: {"'Overflow Tank '!$A$1:$Q$58"}
Name _______________REV3: {#N/A,#N/A,FALSE,"REK-S-TPL";#N/A,#N/A,FALSE,"REK-TPML";#N/A,#N/A,FALSE,"RAB-TEMPEL"}
Name ______________amd1: {#N/A,#N/A,FALSE,"Chi tiÆt"}
Name ______________CU600: {#N/A,#N/A,TRUE,"toc";#N/A,#N/A,TRUE,"general";#N/A,#N/A,TRUE,"compressive";#N/A,#N/A,TRUE,"lateral";#N/A,#N/A,TRUE,"shallow"}
Name ______________Q2: {"'Overflow Tank '!$A$1:$Q$58"}
Name ______________REV3: {#N/A,#N/A,FALSE,"REK-S-TPL";#N/A,#N/A,FALSE,"REK-TPML";#N/A,#N/A,FALSE,"RAB-TEMPEL"}
Name _____________amd1: {#N/A,#N/A,FALSE,"Chi tiÆt"}
Name _____________CU600: {#N/A,#N/A,TRUE,"toc";#N/A,#N/A,TRUE,"general";#N/A,#N/A,TRUE,"compressive";#N/A,#N/A,TRUE,"lateral";#N/A,#N/A,TRUE,"shallow"}
Name _____________REV3: {#N/A,#N/A,FALSE,"REK-S-TPL";#N/A,#N/A,FALSE,"REK-TPML";#N/A,#N/A,FALSE,"RAB-TEMPEL"}
Name ____________amd1: {#N/A,#N/A,FALSE,"Chi tiÆt"}
Name ____________REV3: {#N/A,#N/A,FALSE,"REK-S-TPL";#N/A,#N/A,FALSE,"REK-TPML";#N/A,#N/A,FALSE,"RAB-TEMPEL"}
Name ____________SLA2009: {#N/A,#N/A,FALSE,"M.32"}
Name ____________TH1: {#N/A,#N/A,FALSE,"M.34"}

Sheet REKAP
B2: REKAPITULASI
B3: BILL OF QUANTITY (BQ)
B5: PEKERJAAN : Pembangunan Laboratorium Smart Systems And Integrated Technologies (L-SSIT)
B7: LOKASI : KAMPUS UNIV. UDAYANA BUKIT - JIMBARAN
B8: NO. | C8: URAIAN PEKERJAAN | E8: JUMLAH HARGA (Rp.)
B11: =RAB!C12 -> I | C11: =RAB!D12 -> PEKERJAAN PERSIAPAN | E11: =RAB!J25 -> 551743970
B13: =RAB!C26 -> II. | C13: =RAB!D26 -> PEKERJAAN GALIAN DAN TANAH | E13: =RAB!J33 -> 7.2196356e+08
B15: =RAB!C34 -> III. | C15: =RAB!D34 -> PEKERJAAN STRUKTUR | E15: =RAB!J339 -> 17268619947
B17: =RAB!C340 -> IV. | C17: =RAB!D340 -> PEKERJAAN ARSITEKTUR | E17: =RAB!J584 -> 13664093249
B19: =RAB!C586 -> V. | C19: =RAB!D586 -> PEKERJAAN MEP | E19: =RAB!J1233 -> 18153480065
D21: JUMLAH HARGA | E21: =SUM(E11:E20) -> 50359900792
D22: PPN 11% | E22: =11%*E21 -> 5539589087
D23: JUMLAH HARGA | E23: =SUM(E21:E22) -> 55899489879
D24: DIBULATKAN | E24: =ROUNDDOWN(E23,-3) -> 55899489000
B25: Terbilang :
B26: =[1]Terbilang!D3 -> #ERROR!

Sheet RAB
C1: RAB
C2: Provinsi | E2: : Bali
C3: Kota | E3: : Badung
C4: Kegiatan | E4: : Belanja Modal Gedung dan Bangunan
C5: Pekerjaan | E5: : Perencanaan Pembangunan Laboratorium Smart Systems And Integrated Technologies (L-SSIT)
C6: Tahun Anggaran | E6: : 2026
C8: No | D8: Uraian Pekerjaan | F8: Volume | G8: Satuan | H8: Harga Satuan | I8: Harga Pekerjaan | J8: Total Harga | K8: Keterangan
C10: 1 | D10: 2 | F10: 3 | G10: 4 | H10: 5 | I10: 6 | J10: 7 | K10: 8
C12: I | D12: PEKERJAAN PERSIAPAN
C13: 1 | D13: Pengukuran dan Pemasangan Bowplank | F13: 235 | G13: m | H13: 28182 | I13: =H13*F13 -> 6622770
C14: 2 | D14: Pekerjaan Papan Nama Proyek | F14: 1 | G14: Unit | H14: 2900000 | I14: =H14*F14 -> 2900000
C15: 3 | D15: Pek. Pagar Keliling | F15: 235 | G15: m | H15: 237920 | I15: =H15*F15 -> 55911200
C16: 4 | D16: Mobilisasi dan Demobilisasi | F16: 1 | G16: Ls | H16: 140800000 | I16: =H16*F16 -> 140800000
C17: 5 | D17: SMKK
C18: 5.1 | D18: Helm proyek | F18: 50 | G18: Bh | H18: 80000 | I18: =H18*F18 -> 4000000
C19: 5.2 | D19: Sepatu Keselamatan | F19: 50 | G19: Psg | H19: 250000 | I19: =H19*F19 -> 12500000
C20: 5.3 | D20: Rompi | F20: 50 | G20: Bh | H20: 37700 | I20: =H20*F20 -> 1885000
C21: 5.4 | D21: P3K | F21: 2 | G21: Bh | H21: 500000 | I21: =H21*F21 -> 1000000
C22: 5.5 | D22: Sarung tangan | F22: 50 | G22: Psg | H22: 7500 | I22: =H22*F22 -> 375000
C23: 5.6 | D23: Rambu-Rambu peringatan | F23: 10 | G23: Bh | H23: 75000 | I23: =H23*F23 -> 750000
C24: 6 | D24: Peralatan Tower Crane | F24: 5 | G24: Bln | H24: 65000000 | I24: =H24*F24 -> 325000000
I25: TOTAL SUB PEKERJAAN I | J25: =SUM(I13:I24) -> 551743970
C26: II. | D26: PEKERJAAN GALIAN DAN TANAH
C27: 1 | D27: Pek. Cut & Fill | F27: 3814 | G27: m3 | H27: 17875 | I27: =H27*F27 -> 68175250
C28: 2 | D28: Pek. Galian Pondasi Setempat | F28: 806.74 | G28: m3 | H28: 130183 | I28: =H28*F28 -> 1.0502383e+08
C29: 3 | D29: Pek. Galian Pondasi Setempat Lift | F29: 52.53 | G29: m3 | H29: 130183 | I29: =H29*F29 -> 6838513
C30: 4 | D30: Pek. Galian BSTP | F30: 108 | G30: m3 | H30: 130183 | I30: =H30*F30 -> 14059764
C31: 5 | D31: Pek. Urugan Tanah Kembali | F31: 956.25 | G31: m3 | H31: 37800 | I31: =H31*F31 -> 36146250
C32: 6 | D32: Pek. Urugan Tanah Peninggian Lantai | F32: 1907 | G32: m3 | H32: 257850 | I32: =H32*F32 -> 491719950
I33: TOTAL SUB PEKERJAAN II | J33: =SUM(I27:I32) -> 7.2196356e+08
C34: III. | D34: PEKERJAAN STRUKTUR
C35: III.A. | D35: BASEMENT
C36: 1 | D36: Pek. Pondasi P1
D37: Beton f'c 31.2 Mpa | F37: 53.16 | G37: m3 | H37: 1500536 | I37: =H37*F37 -> 79768494
D38: Besi | F38: 6834.38 | G38: kg | H38: 13486 | I38: =H38*F38 -> 92168449
D39: Bekisting Batako | F39: 94.5 | G39: m2 | H39: 105201 | I39: =H39*F39 -> 9941494.5
C41: 2 | D41: Pek. Pondasi P2
D42: Beton f'c 31.2 Mpa | F42: 8.49 | G42: m3 | H42: 1500536 | I42: =H42*F42 -> 12739551
D43: Besi | F43: 1091.47 | G43: kg | H43: 13486 | I43: =H43*F43 -> 14719564
D44: Bekisting Batako | F44: 9.8 | G44: m2 | H44: 105201 | I44: =H44*F44 -> 1030969.8
...
